BEGIN:VCALENDAR
VERSION:2.0
PRODID:-//WAMA - ECPv4.6.23//NONSGML v1.0//EN
CALSCALE:GREGORIAN
METHOD:PUBLISH
X-WR-CALNAME:WAMA
X-ORIGINAL-URL:https://wama.net.au
X-WR-CALDESC:Events for WAMA
BEGIN:VEVENT
DTSTART;TZID=UTC+0:20190204T190000
DTEND;TZID=UTC+0:20190204T213000
DTSTAMP:20190228T114958
CREATED:20190117T224317Z
LAST-MODIFIED:20190118T025400Z
UID:4117-1549306800-1549315800@wama.net.au
SUMMARY:WAMA Board Meeting by Telecon
DESCRIPTION:
URL:https://wama.net.au/event/wama-board-meeting-3-2/
END:VEVENT
BEGIN:VEVENT
DTSTART;TZID=UTC+0:20190205T100000
DTEND;TZID=UTC+0:20190205T120000
DTSTAMP:20190228T114958
CREATED:20190116T233102Z
LAST-MODIFIED:20190116T234723Z
UID:4106-1549360800-1549368000@wama.net.au
SUMMARY:Education team and engagement team meeting - Grannes
DESCRIPTION:
URL:https://wama.net.au/event/wama-education-team-meeting-2/
END:VEVENT
BEGIN:VEVENT
DTSTART;TZID=UTC+0:20190226T160000
DTEND;TZID=UTC+0:20190226T160000
DTSTAMP:20190228T114958
CREATED:20190117T225534Z
LAST-MODIFIED:20190117T225637Z
UID:4139-1551196800-1551196800@wama.net.au
SUMMARY:AAC Meeting - Sapphire Global Office\, Carlton
DESCRIPTION:
URL:https://wama.net.au/event/aac-meeting/
END:VEVENT
END:VCALENDAR